Package: GmicR Version: 1.20.0 Command: /home/biocbuild/R/R/bin/R CMD build --keep-empty-dirs --no-resave-data GmicR StartedAt: 2025-03-31 23:52:32 -0000 (Mon, 31 Mar 2025) EndedAt: 2025-04-01 00:09:31 -0000 (Tue, 01 Apr 2025) EllapsedTime: 1019.8 seconds RetCode: 0 Status: OK PackageFile: GmicR_1.20.0.tar.gz PackageFileSize: 3.425 MiB