Package: GmicR Version: 1.20.0 Command: /Library/Frameworks/R.framework/Resources/bin/R CMD INSTALL GmicR StartedAt: 2025-03-31 16:11:45 -0400 (Mon, 31 Mar 2025) EndedAt: 2025-03-31 16:12:42 -0400 (Mon, 31 Mar 2025) EllapsedTime: 57.1 seconds RetCode: 0 Status: OK