Package: GmicR Version: 1.20.0 Command: /Library/Frameworks/R.framework/Resources/bin/R CMD check --install=check:GmicR.install-out.txt --library=/Library/Frameworks/R.framework/Resources/library --no-vignettes --timings GmicR_1.20.0.tar.gz StartedAt: 2025-04-01 20:53:16 -0400 (Tue, 01 Apr 2025) EndedAt: 2025-04-01 21:10:26 -0400 (Tue, 01 Apr 2025) EllapsedTime: 1030.1 seconds RetCode: 0 Status: WARNINGS CheckDir: GmicR.Rcheck Warnings: 1