Package: GlobalAncova Version: 4.24.0 Command: F:\biocbuild\bbs-3.20-bioc\R\bin\R.exe CMD check --no-multiarch --install=check:GlobalAncova.install-out.txt --library=F:\biocbuild\bbs-3.20-bioc\R\library --no-vignettes --timings GlobalAncova_4.24.0.tar.gz StartedAt: 2025-04-01 02:06:53 -0400 (Tue, 01 Apr 2025) EndedAt: 2025-04-01 02:10:12 -0400 (Tue, 01 Apr 2025) EllapsedTime: 199.3 seconds RetCode: 0 Status: WARNINGS CheckDir: GlobalAncova.Rcheck Warnings: 1