Package: GlobalAncova Version: 4.24.0 Command: chmod a+r GlobalAncova -R && F:\biocbuild\bbs-3.20-bioc\R\bin\R.exe CMD build --keep-empty-dirs --no-resave-data GlobalAncova StartedAt: 2025-03-31 19:17:41 -0400 (Mon, 31 Mar 2025) EndedAt: 2025-03-31 19:28:10 -0400 (Mon, 31 Mar 2025) EllapsedTime: 629.5 seconds RetCode: 0 Status: OK PackageFile: GlobalAncova_4.24.0.tar.gz PackageFileSize: 961.7 KiB