Package: GlobalAncova Version: 4.24.0 Command: /Library/Frameworks/R.framework/Resources/bin/R CMD check --install=check:GlobalAncova.install-out.txt --library=/Library/Frameworks/R.framework/Resources/library --no-vignettes --timings GlobalAncova_4.24.0.tar.gz StartedAt: 2025-04-01 20:51:25 -0400 (Tue, 01 Apr 2025) EndedAt: 2025-04-01 20:54:27 -0400 (Tue, 01 Apr 2025) EllapsedTime: 182.1 seconds RetCode: 0 Status: WARNINGS CheckDir: GlobalAncova.Rcheck Warnings: 1