Package: GloScope Version: 1.4.0 Command: /Library/Frameworks/R.framework/Resources/bin/R CMD INSTALL GloScope StartedAt: 2025-03-31 15:24:52 -0400 (Mon, 31 Mar 2025) EndedAt: 2025-03-31 15:25:43 -0400 (Mon, 31 Mar 2025) EllapsedTime: 50.3 seconds RetCode: 0 Status: OK