Package: GladiaTOX Version: 1.22.0 Command: /Library/Frameworks/R.framework/Resources/bin/R CMD check --install=check:GladiaTOX.install-out.txt --library=/Library/Frameworks/R.framework/Resources/library --no-vignettes --timings GladiaTOX_1.22.0.tar.gz StartedAt: 2025-04-01 20:48:36 -0400 (Tue, 01 Apr 2025) EndedAt: 2025-04-01 20:50:37 -0400 (Tue, 01 Apr 2025) EllapsedTime: 121.3 seconds RetCode: 0 Status: OK CheckDir: GladiaTOX.Rcheck Warnings: 0