Package: GeomxTools Version: 3.10.0 Command: /Library/Frameworks/R.framework/Resources/bin/R CMD check --install=check:GeomxTools.install-out.txt --library=/Library/Frameworks/R.framework/Resources/library --no-vignettes --timings GeomxTools_3.10.0.tar.gz StartedAt: 2025-04-01 03:38:00 -0400 (Tue, 01 Apr 2025) EndedAt: 2025-04-01 04:18:00 -0400 (Tue, 01 Apr 2025) EllapsedTime: 2400.5 seconds RetCode: None Status: TIMEOUT CheckDir: GeomxTools.Rcheck Warnings: NA