Package: GeomxTools Version: 3.10.0 Command: /Library/Frameworks/R.framework/Resources/bin/R CMD build --keep-empty-dirs --no-resave-data GeomxTools StartedAt: 2025-04-01 00:08:45 -0400 (Tue, 01 Apr 2025) EndedAt: 2025-04-01 00:15:48 -0400 (Tue, 01 Apr 2025) EllapsedTime: 423.3 seconds RetCode: 0 Status: OK PackageFile: GeomxTools_3.10.0.tar.gz PackageFileSize: 16.99 MiB