Package: GeoTcgaData Version: 2.6.0 Command: F:\biocbuild\bbs-3.20-bioc\R\bin\R.exe CMD check --no-multiarch --install=check:GeoTcgaData.install-out.txt --library=F:\biocbuild\bbs-3.20-bioc\R\library --no-vignettes --timings GeoTcgaData_2.6.0.tar.gz StartedAt: 2025-04-01 02:00:35 -0400 (Tue, 01 Apr 2025) EndedAt: 2025-04-01 02:05:00 -0400 (Tue, 01 Apr 2025) EllapsedTime: 265.6 seconds RetCode: 0 Status: OK CheckDir: GeoTcgaData.Rcheck Warnings: 0