Package: GeoTcgaData Version: 2.6.0 Command: chmod a+r GeoTcgaData -R && F:\biocbuild\bbs-3.20-bioc\R\bin\R.exe CMD build --keep-empty-dirs --no-resave-data GeoTcgaData StartedAt: 2025-03-31 19:14:11 -0400 (Mon, 31 Mar 2025) EndedAt: 2025-03-31 19:15:43 -0400 (Mon, 31 Mar 2025) EllapsedTime: 92.3 seconds RetCode: 0 Status: OK PackageFile: GeoTcgaData_2.6.0.tar.gz PackageFileSize: 3.318 MiB