Package: GeoTcgaData Version: 2.6.0 Command: /Library/Frameworks/R.framework/Resources/bin/R CMD check --install=check:GeoTcgaData.install-out.txt --library=/Library/Frameworks/R.framework/Resources/library --no-vignettes --timings GeoTcgaData_2.6.0.tar.gz StartedAt: 2025-04-01 03:38:24 -0400 (Tue, 01 Apr 2025) EndedAt: 2025-04-01 03:45:46 -0400 (Tue, 01 Apr 2025) EllapsedTime: 442.0 seconds RetCode: 0 Status: OK CheckDir: GeoTcgaData.Rcheck Warnings: 0