Package: GeoDiff Version: 1.12.0 Command: /home/biocbuild/R/R/bin/R CMD check --install=check:GeoDiff.install-out.txt --library=/home/biocbuild/R/R/site-library --no-vignettes --timings GeoDiff_1.12.0.tar.gz StartedAt: 2025-04-01 06:52:27 -0000 (Tue, 01 Apr 2025) EndedAt: 2025-04-01 06:58:00 -0000 (Tue, 01 Apr 2025) EllapsedTime: 333.2 seconds RetCode: 0 Status: OK CheckDir: GeoDiff.Rcheck Warnings: 0