Package: GenomicTuples Version: 1.40.0 Command: F:\biocbuild\bbs-3.20-bioc\R\bin\R.exe CMD check --no-multiarch --install=check:GenomicTuples.install-out.txt --library=F:\biocbuild\bbs-3.20-bioc\R\library --no-vignettes --timings GenomicTuples_1.40.0.tar.gz StartedAt: 2025-04-01 01:57:43 -0400 (Tue, 01 Apr 2025) EndedAt: 2025-04-01 02:00:33 -0400 (Tue, 01 Apr 2025) EllapsedTime: 169.9 seconds RetCode: 0 Status: OK CheckDir: GenomicTuples.Rcheck Warnings: 0