Package: GenomicSuperSignature Version: 1.14.0 Command: /home/biocbuild/R/R/bin/R CMD check --install=check:GenomicSuperSignature.install-out.txt --library=/home/biocbuild/R/R/site-library --no-vignettes --timings GenomicSuperSignature_1.14.0.tar.gz StartedAt: 2025-04-01 06:50:28 -0000 (Tue, 01 Apr 2025) EndedAt: 2025-04-01 07:03:13 -0000 (Tue, 01 Apr 2025) EllapsedTime: 764.5 seconds RetCode: 0 Status: WARNINGS CheckDir: GenomicSuperSignature.Rcheck Warnings: 2