Package: GenomicSuperSignature Version: 1.14.0 Command: /home/biocbuild/R/R/bin/R CMD build --keep-empty-dirs --no-resave-data GenomicSuperSignature StartedAt: 2025-03-31 23:43:24 -0000 (Mon, 31 Mar 2025) EndedAt: 2025-03-31 23:58:55 -0000 (Mon, 31 Mar 2025) EllapsedTime: 930.7 seconds RetCode: 0 Status: OK PackageFile: GenomicSuperSignature_1.14.0.tar.gz PackageFileSize: 5.915 MiB