Package: GenomicSuperSignature Version: 1.14.0 Command: rm -rf GenomicSuperSignature.buildbin-libdir && mkdir GenomicSuperSignature.buildbin-libdir && F:\biocbuild\bbs-3.20-bioc\R\bin\R.exe CMD INSTALL --build --library=GenomicSuperSignature.buildbin-libdir GenomicSuperSignature_1.14.0.tar.gz StartedAt: 2025-04-01 08:16:52 -0400 (Tue, 01 Apr 2025) EndedAt: 2025-04-01 08:27:26 -0400 (Tue, 01 Apr 2025) EllapsedTime: 634.3 seconds RetCode: 0 Status: OK PackageFile: GenomicSuperSignature_1.14.0.zip PackageFileSize: 6.611 MiB