Package: GenomicRanges Version: 1.58.0 Command: /Library/Frameworks/R.framework/Resources/bin/R CMD INSTALL GenomicRanges StartedAt: 2025-03-31 15:20:05 -0400 (Mon, 31 Mar 2025) EndedAt: 2025-03-31 15:20:29 -0400 (Mon, 31 Mar 2025) EllapsedTime: 23.4 seconds RetCode: 0 Status: OK