Package: GenomicRanges Version: 1.58.0 Command: /Library/Frameworks/R.framework/Resources/bin/R CMD check --install=check:GenomicRanges.install-out.txt --library=/Library/Frameworks/R.framework/Resources/library --no-vignettes --timings GenomicRanges_1.58.0.tar.gz StartedAt: 2025-04-01 20:23:51 -0400 (Tue, 01 Apr 2025) EndedAt: 2025-04-01 20:28:13 -0400 (Tue, 01 Apr 2025) EllapsedTime: 261.2 seconds RetCode: 0 Status: OK CheckDir: GenomicRanges.Rcheck Warnings: 0