Package: GenomicPlot Version: 1.4.0 Command: /home/biocbuild/R/R/bin/R CMD INSTALL GenomicPlot StartedAt: 2025-03-31 21:08:56 -0000 (Mon, 31 Mar 2025) EndedAt: 2025-03-31 21:10:01 -0000 (Mon, 31 Mar 2025) EllapsedTime: 65.5 seconds RetCode: 0 Status: OK