Package: GenomicPlot Version: 1.4.0 Command: /Library/Frameworks/R.framework/Resources/bin/R CMD build --keep-empty-dirs --no-resave-data GenomicPlot StartedAt: 2025-03-31 18:57:33 -0400 (Mon, 31 Mar 2025) EndedAt: 2025-03-31 19:02:31 -0400 (Mon, 31 Mar 2025) EllapsedTime: 297.9 seconds RetCode: 0 Status: OK PackageFile: GenomicPlot_1.4.0.tar.gz PackageFileSize: 4.092 MiB