Package: GenomicOZone Version: 1.20.0 Command: /home/biocbuild/R/R/bin/R CMD INSTALL GenomicOZone StartedAt: 2025-03-31 20:49:34 -0000 (Mon, 31 Mar 2025) EndedAt: 2025-03-31 20:50:56 -0000 (Mon, 31 Mar 2025) EllapsedTime: 82.2 seconds RetCode: 0 Status: OK