Package: GenomicOZone Version: 1.20.0 Command: /home/biocbuild/R/R/bin/R CMD build --keep-empty-dirs --no-resave-data GenomicOZone StartedAt: 2025-03-31 23:43:13 -0000 (Mon, 31 Mar 2025) EndedAt: 2025-03-31 23:46:13 -0000 (Mon, 31 Mar 2025) EllapsedTime: 180.2 seconds RetCode: 0 Status: OK PackageFile: GenomicOZone_1.20.0.tar.gz PackageFileSize: 1.275 MiB