Package: GenomicOZone Version: 1.20.0 Command: /home/biocbuild/bbs-3.20-bioc/R/bin/R CMD INSTALL GenomicOZone StartedAt: 2025-03-31 15:40:46 -0400 (Mon, 31 Mar 2025) EndedAt: 2025-03-31 15:41:49 -0400 (Mon, 31 Mar 2025) EllapsedTime: 63.3 seconds RetCode: 0 Status: OK