Package: GenomicOZone Version: 1.20.0 Command: /Library/Frameworks/R.framework/Resources/bin/R CMD check --install=check:GenomicOZone.install-out.txt --library=/Library/Frameworks/R.framework/Resources/library --no-vignettes --timings GenomicOZone_1.20.0.tar.gz StartedAt: 2025-04-01 03:29:02 -0400 (Tue, 01 Apr 2025) EndedAt: 2025-04-01 03:40:28 -0400 (Tue, 01 Apr 2025) EllapsedTime: 685.8 seconds RetCode: 0 Status: OK CheckDir: GenomicOZone.Rcheck Warnings: 0