Package: GenomicInteractions Version: 1.40.0 Command: /home/biocbuild/R/R/bin/R CMD INSTALL GenomicInteractions StartedAt: 2025-03-31 20:47:01 -0000 (Mon, 31 Mar 2025) EndedAt: 2025-03-31 20:48:45 -0000 (Mon, 31 Mar 2025) EllapsedTime: 104.9 seconds RetCode: 0 Status: OK