Package: GenomicInteractions Version: 1.40.0 Command: /home/biocbuild/R/R/bin/R CMD build --keep-empty-dirs --no-resave-data GenomicInteractions StartedAt: 2025-03-31 23:43:06 -0000 (Mon, 31 Mar 2025) EndedAt: 2025-03-31 23:47:10 -0000 (Mon, 31 Mar 2025) EllapsedTime: 244.2 seconds RetCode: 0 Status: OK PackageFile: GenomicInteractions_1.40.0.tar.gz PackageFileSize: 3.32 MiB