Package: GenomicInteractions Version: 1.40.0 Command: /Library/Frameworks/R.framework/Resources/bin/R CMD build --keep-empty-dirs --no-resave-data GenomicInteractions StartedAt: 2025-04-01 00:03:29 -0400 (Tue, 01 Apr 2025) EndedAt: 2025-04-01 00:06:53 -0400 (Tue, 01 Apr 2025) EllapsedTime: 203.8 seconds RetCode: 0 Status: OK PackageFile: GenomicInteractions_1.40.0.tar.gz PackageFileSize: 3.507 MiB