Package: GenomicInteractions Version: 1.40.0 Command: rm -rf GenomicInteractions.buildbin-libdir && mkdir GenomicInteractions.buildbin-libdir && /Users/biocbuild/BBS/utils/build-universal.sh GenomicInteractions_1.40.0.tar.gz /Library/Frameworks/R.framework/Resources/bin/R GenomicInteractions.buildbin-libdir StartedAt: 2025-04-02 14:30:52 -0400 (Wed, 02 Apr 2025) EndedAt: 2025-04-02 14:32:47 -0400 (Wed, 02 Apr 2025) EllapsedTime: 114.8 seconds RetCode: 0 Status: OK PackageFile: GenomicInteractions_1.40.0.tgz PackageFileSize: 4.008 MiB