Package: GenomicFeatures Version: 1.58.0 Command: F:\biocbuild\bbs-3.20-bioc\R\bin\R.exe CMD INSTALL GenomicFeatures StartedAt: 2025-03-31 16:01:24 -0400 (Mon, 31 Mar 2025) EndedAt: 2025-03-31 16:04:03 -0400 (Mon, 31 Mar 2025) EllapsedTime: 158.8 seconds RetCode: 0 Status: OK