Package: GenomicFeatures Version: 1.58.0 Command: /home/biocbuild/bbs-3.20-bioc/R/bin/R CMD build --keep-empty-dirs --no-resave-data --md5 GenomicFeatures StartedAt: 2025-03-31 17:22:44 -0400 (Mon, 31 Mar 2025) EndedAt: 2025-03-31 17:23:58 -0400 (Mon, 31 Mar 2025) EllapsedTime: 74.1 seconds RetCode: 0 Status: OK PackageFile: GenomicFeatures_1.58.0.tar.gz PackageFileSize: 558.3 KiB