Package: GenomicFeatures Version: 1.58.0 Command: /Library/Frameworks/R.framework/Resources/bin/R CMD check --install=check:GenomicFeatures.install-out.txt --library=/Library/Frameworks/R.framework/Resources/library --no-vignettes --timings GenomicFeatures_1.58.0.tar.gz StartedAt: 2025-04-01 03:28:00 -0400 (Tue, 01 Apr 2025) EndedAt: 2025-04-01 03:46:53 -0400 (Tue, 01 Apr 2025) EllapsedTime: 1133.5 seconds RetCode: 0 Status: OK CheckDir: GenomicFeatures.Rcheck Warnings: 0