Package: GenomicDistributions Version: 1.14.0 Command: F:\biocbuild\bbs-3.20-bioc\R\bin\R.exe CMD INSTALL GenomicDistributions StartedAt: 2025-03-31 16:06:59 -0400 (Mon, 31 Mar 2025) EndedAt: 2025-03-31 16:08:58 -0400 (Mon, 31 Mar 2025) EllapsedTime: 119.6 seconds RetCode: 0 Status: OK