Package: GenomicDistributions Version: 1.14.0 Command: /home/biocbuild/bbs-3.20-bioc/R/bin/R CMD INSTALL GenomicDistributions StartedAt: 2025-03-31 15:18:44 -0400 (Mon, 31 Mar 2025) EndedAt: 2025-03-31 15:18:59 -0400 (Mon, 31 Mar 2025) EllapsedTime: 14.2 seconds RetCode: 0 Status: OK