Package: GenomicDistributions Version: 1.14.0 Command: /Library/Frameworks/R.framework/Resources/bin/R CMD check --install=check:GenomicDistributions.install-out.txt --library=/Library/Frameworks/R.framework/Resources/library --no-vignettes --timings GenomicDistributions_1.14.0.tar.gz StartedAt: 2025-04-01 03:27:55 -0400 (Tue, 01 Apr 2025) EndedAt: 2025-04-01 03:33:43 -0400 (Tue, 01 Apr 2025) EllapsedTime: 347.2 seconds RetCode: 0 Status: OK CheckDir: GenomicDistributions.Rcheck Warnings: 0