Package: GenomicDistributions Version: 1.14.0 Command: rm -rf GenomicDistributions.buildbin-libdir && mkdir GenomicDistributions.buildbin-libdir && /Users/biocbuild/BBS/utils/build-universal.sh GenomicDistributions_1.14.0.tar.gz /Library/Frameworks/R.framework/Resources/bin/R GenomicDistributions.buildbin-libdir StartedAt: 2025-04-01 11:56:49 -0400 (Tue, 01 Apr 2025) EndedAt: 2025-04-01 11:57:27 -0400 (Tue, 01 Apr 2025) EllapsedTime: 38.0 seconds RetCode: 0 Status: OK PackageFile: GenomicDistributions_1.14.0.tgz PackageFileSize: 5.645 MiB