Package: GenomicDistributions Version: 1.14.0 Command: rm -rf GenomicDistributions.buildbin-libdir && mkdir GenomicDistributions.buildbin-libdir && /Users/biocbuild/BBS/utils/build-universal.sh GenomicDistributions_1.14.0.tar.gz /Library/Frameworks/R.framework/Resources/bin/R GenomicDistributions.buildbin-libdir StartedAt: 2025-04-02 14:30:08 -0400 (Wed, 02 Apr 2025) EndedAt: 2025-04-02 14:30:30 -0400 (Wed, 02 Apr 2025) EllapsedTime: 21.4 seconds RetCode: 0 Status: OK PackageFile: GenomicDistributions_1.14.0.tgz PackageFileSize: 5.647 MiB