Package: GenomicDataCommons Version: 1.30.1 Command: /home/biocbuild/bbs-3.20-bioc/R/bin/R CMD build --keep-empty-dirs --no-resave-data --md5 GenomicDataCommons StartedAt: 2025-03-31 17:22:35 -0400 (Mon, 31 Mar 2025) EndedAt: 2025-03-31 17:23:41 -0400 (Mon, 31 Mar 2025) EllapsedTime: 66.1 seconds RetCode: 0 Status: OK PackageFile: GenomicDataCommons_1.30.1.tar.gz PackageFileSize: 2.642 MiB