Package: GenomicDataCommons Version: 1.30.1 Command: /Library/Frameworks/R.framework/Resources/bin/R CMD INSTALL GenomicDataCommons StartedAt: 2025-03-31 15:22:08 -0400 (Mon, 31 Mar 2025) EndedAt: 2025-03-31 15:22:22 -0400 (Mon, 31 Mar 2025) EllapsedTime: 13.6 seconds RetCode: 0 Status: OK