Package: GenomicDataCommons Version: 1.30.1 Command: /Library/Frameworks/R.framework/Resources/bin/R CMD build --keep-empty-dirs --no-resave-data GenomicDataCommons StartedAt: 2025-04-01 00:01:25 -0400 (Tue, 01 Apr 2025) EndedAt: 2025-04-01 00:02:52 -0400 (Tue, 01 Apr 2025) EllapsedTime: 87.4 seconds RetCode: 0 Status: OK PackageFile: GenomicDataCommons_1.30.1.tar.gz PackageFileSize: 2.368 MiB