Package: GenomicAlignments Version: 1.42.0 Command: chmod a+r GenomicAlignments -R && F:\biocbuild\bbs-3.20-bioc\R\bin\R.exe CMD build --keep-empty-dirs --no-resave-data GenomicAlignments StartedAt: 2025-03-31 19:11:05 -0400 (Mon, 31 Mar 2025) EndedAt: 2025-03-31 19:15:06 -0400 (Mon, 31 Mar 2025) EllapsedTime: 240.2 seconds RetCode: 0 Status: OK PackageFile: GenomicAlignments_1.42.0.tar.gz PackageFileSize: 2.166 MiB