Package: GenomicAlignments Version: 1.42.0 Command: rm -rf GenomicAlignments.buildbin-libdir && mkdir GenomicAlignments.buildbin-libdir && /Users/biocbuild/BBS/utils/build-universal.sh GenomicAlignments_1.42.0.tar.gz /Library/Frameworks/R.framework/Resources/bin/R GenomicAlignments.buildbin-libdir StartedAt: 2025-04-01 11:56:48 -0400 (Tue, 01 Apr 2025) EndedAt: 2025-04-01 11:58:09 -0400 (Tue, 01 Apr 2025) EllapsedTime: 81.0 seconds RetCode: 0 Status: OK PackageFile: GenomicAlignments_1.42.0.tgz PackageFileSize: 2.272 MiB