Package: GenomicAlignments Version: 1.42.0 Command: /Library/Frameworks/R.framework/Resources/bin/R CMD build --keep-empty-dirs --no-resave-data GenomicAlignments StartedAt: 2025-04-01 00:01:24 -0400 (Tue, 01 Apr 2025) EndedAt: 2025-04-01 00:03:34 -0400 (Tue, 01 Apr 2025) EllapsedTime: 129.9 seconds RetCode: 0 Status: OK PackageFile: GenomicAlignments_1.42.0.tar.gz PackageFileSize: 2.165 MiB