Package: GenomeInfoDb Version: 1.42.3 Command: /home/biocbuild/R/R/bin/R CMD check --install=check:GenomeInfoDb.install-out.txt --library=/home/biocbuild/R/R/site-library --no-vignettes --timings GenomeInfoDb_1.42.3.tar.gz StartedAt: 2025-04-01 06:46:46 -0000 (Tue, 01 Apr 2025) EndedAt: 2025-04-01 07:16:21 -0000 (Tue, 01 Apr 2025) EllapsedTime: 1775.5 seconds RetCode: 1 Status: ERROR CheckDir: GenomeInfoDb.Rcheck Warnings: NA