Package: GenomeInfoDb Version: 1.42.3 Command: /home/biocbuild/bbs-3.20-bioc/R/bin/R CMD build --keep-empty-dirs --no-resave-data --md5 GenomeInfoDb StartedAt: 2025-03-31 17:22:23 -0400 (Mon, 31 Mar 2025) EndedAt: 2025-03-31 17:22:52 -0400 (Mon, 31 Mar 2025) EllapsedTime: 29.0 seconds RetCode: 0 Status: OK PackageFile: GenomeInfoDb_1.42.3.tar.gz PackageFileSize: 3.426 MiB