Package: GenomeInfoDb Version: 1.42.3 Command: /Library/Frameworks/R.framework/Resources/bin/R CMD INSTALL GenomeInfoDb StartedAt: 2025-03-31 15:11:10 -0400 (Mon, 31 Mar 2025) EndedAt: 2025-03-31 15:11:44 -0400 (Mon, 31 Mar 2025) EllapsedTime: 34.1 seconds RetCode: 0 Status: OK