Package: GenomeInfoDb Version: 1.42.3 Command: /Library/Frameworks/R.framework/Resources/bin/R CMD build --keep-empty-dirs --no-resave-data GenomeInfoDb StartedAt: 2025-03-31 18:55:16 -0400 (Mon, 31 Mar 2025) EndedAt: 2025-03-31 18:56:26 -0400 (Mon, 31 Mar 2025) EllapsedTime: 69.8 seconds RetCode: 0 Status: OK PackageFile: GenomeInfoDb_1.42.3.tar.gz PackageFileSize: 3.419 MiB