Package: GenomAutomorphism Version: 1.8.1 Command: /home/biocbuild/R/R/bin/R CMD INSTALL GenomAutomorphism StartedAt: 2025-03-31 21:10:57 -0000 (Mon, 31 Mar 2025) EndedAt: 2025-03-31 21:11:28 -0000 (Mon, 31 Mar 2025) EllapsedTime: 30.7 seconds RetCode: 0 Status: OK