Package: GenomAutomorphism Version: 1.8.1 Command: /home/biocbuild/R/R/bin/R CMD build --keep-empty-dirs --no-resave-data GenomAutomorphism StartedAt: 2025-03-31 23:41:10 -0000 (Mon, 31 Mar 2025) EndedAt: 2025-03-31 23:43:23 -0000 (Mon, 31 Mar 2025) EllapsedTime: 133.1 seconds RetCode: 0 Status: OK PackageFile: GenomAutomorphism_1.8.1.tar.gz PackageFileSize: 1.26 MiB